BEGIN:VCALENDAR
VERSION:2.0
METHOD:PUBLISH
BEGIN:VEVENT
UID:WILD_APRICOT_EVENT_275437_SESSION_1
DTSTART:20110316T130000Z
DTEND:20110316T170000Z
SUMMARY:Symposium sur la Justification et optimisation des examens CT
LOCATION:Locaux de l'EHL (Bertrange)
DESCRIPTION:http://slr.lu/event-275437\n\nLes organisations et institutions luxembourgeoises suivantes:\n     *   Division de la Radioprotection (Ministère de la Santé)\n\n     *   Entente des Hopitaux\n\n     *   CRP-Henri Tudor\n\n     *   Société Luxembourgeoise de Radiologie\n\n vous informent qu'ils vont organiser le 16 mars 2011 de 14 à 18 hrs dans les locaux de l'EHL (Bertrange) un :\n \n Symposium sur la Justification et optimisation (radioprotection) des examens CT .\n \n Ordre du jour préliminaire:\n     * Justification et optimisation en CT pédiatrique\n\n     * Enquête dosimétrique CT 2010 au Luxembourg : Résultats \, aspects cliniques et technologiques\n\n
DTSTAMP:20170621T012735Z
END:VEVENT
END:VCALENDAR
