BEGIN:VCALENDAR
VERSION:2.0
METHOD:PUBLISH
BEGIN:VEVENT
UID:WILD_APRICOT_EVENT_275436_SESSION_1
DTSTART:20110308T073000Z
DTEND:20110308T085959Z
SUMMARY:ESR General Assembly
LOCATION:Austria Center Vienna in Room F2 (Level OE)
DESCRIPTION:http://slr.lu/event-275436\n\nThe fourth ESR General Assembly will be held on Monday\, March 7\, 2011 from 8:30-10:00. The Société Luxembourgeoise de Radiologie is cordially invited to participate in this annual members' meeting of the European Society of Radiology.\n\n AGENDA\n     * Welcome\n\n     * Approval of the minutes of the last ESR General Assembly in March 2010\n\n     * President's Report\n\n     * Approval of the ESR Annual Report 2010\n\n     * Confirmation of Controllers\n Ratification of Honorary Members 2012\n\n     * Turning ESOR into an ESR Standing Committee\n\n     * Announcement of e-Voting results (published before the ECR on the ESR Website)\n\n     * Introduction of the incoming ESR President\n\n According to the ESR Statutes only ESR full members (= practising radiologists residing in Europe) in good standing during the year 2011 will be entitled to vote.\n
DTSTAMP:20170621T012746Z
END:VEVENT
END:VCALENDAR
