BEGIN:VCALENDAR
VERSION:2.0
METHOD:PUBLISH
BEGIN:VEVENT
UID:WILD_APRICOT_EVENT_273589_SESSION_1
DTSTART:20110215T180000Z
DTEND:20110215T180000Z
SUMMARY:Assemblée Générale Ordinaire
LOCATION:Domus Medica\, 29 rue de Vianden\, Luxembourg
DESCRIPTION:http://slr.lu/event-273589\n\nLa prochaine Assemblée Générale Ordinaire de la SLR se tiendra le mardi 15 février 2011 à 19h00 au Domus Medica\, 29 rue de Vianden\, Luxembourg. L’ordre du jour comporte entre autres\, le point de la situation et les perspectives sur l’action syndicale et la définition de la position de la SLR concernant l’éventuelle nouvelle nomenclature.\n
DTSTAMP:20170621T012759Z
END:VEVENT
END:VCALENDAR
